BEGIN:VCALENDAR
VERSION:2.0
PRODID:-//everychildismychild.it - ECPv6.15.20//NONSGML v1.0//EN
CALSCALE:GREGORIAN
METHOD:PUBLISH
X-ORIGINAL-URL:https://everychildismychild.it
X-WR-CALDESC:Events for everychildismychild.it
REFRESH-INTERVAL;VALUE=DURATION:PT1H
X-Robots-Tag:noindex
X-PUBLISHED-TTL:PT1H
BEGIN:VTIMEZONE
TZID:UTC
BEGIN:STANDARD
TZOFFSETFROM:+0000
TZOFFSETTO:+0000
TZNAME:UTC
DTSTART:20230101T000000
END:STANDARD
END:VTIMEZONE
BEGIN:VEVENT
DTSTART;TZID=UTC:20240204T210000
DTEND;TZID=UTC:20240204T210000
DTSTAMP:20260421T153816
CREATED:20231209T123508Z
LAST-MODIFIED:20231209T124053Z
UID:21394-1707080400-1707080400@everychildismychild.it
SUMMARY:Anna Foglietta "Una Guerra"
DESCRIPTION:Artisti \nAnna Foglietta\, voce recitante\nFrancesco Mariozzi\, violoncello\nTesto a cura di Michele Santeramo\nMusiche originali di Francesco Mariozzi \nMessaggio \nCari Tutti\, \nSono Anna Foglietta\, e spero di trovarvi bene. \nVi rubo un minuto per informarvi di una bella iniziativa che avrà come scopo quello di raccogliere fondi da destinare alla Onlus di cui sono Presidente e che molti di voi già conoscono e supportano\, EVERY CHILD IS MY CHILD.  \nIl 17 Dicembre alle ore 21 presso il Teatro Palladium\, metterò in scena una lettura importante dal titolo “Una Guerra”\, scritto da Michele Santeramo e accompagnata dalle Musiche originali del Maestro Mariozzi\, un violoncellista dal talento eccezionale.  \nOltre al piacere di avervi accanto si aggiungerà la soddisfazione di partecipare ad una raccolta\, volta al supporto dei molteplici progetti che portiamo avanti ormai da anni\, con EVERY CHILD IS MY CHILD.  \nPer poter accedere alla serata vi consiglio di mandare una mail all’indirizzo  \ninfo@everychilismychild.it \ne poi in loco si potrà procedere all’acquisto del biglietto dal costo minimo di 30 Euro.  \nL’intero ricavato della serata sarà devoluto alla Onlus. 
URL:https://everychildismychild.it/event/anna-foglietta-una-guerra/
CATEGORIES:Children,Donation,Performance
ATTACH;FMTTYPE=image/png:https://everychildismychild.it/wp-content/uploads/2023/12/Untitled-design.png
END:VEVENT
END:VCALENDAR